BEGIN:VCALENDAR
VERSION:2.0
PRODID:-//Zespół Szkolno - Przedszkolny im. Jana Pawła II w Rząśni - ECPv6.15.20//NONSGML v1.0//EN
CALSCALE:GREGORIAN
METHOD:PUBLISH
X-WR-CALNAME:Zespół Szkolno - Przedszkolny im. Jana Pawła II w Rząśni
X-ORIGINAL-URL:https://zsprzasnia.pl
X-WR-CALDESC:Wydarzenia dla Zespół Szkolno - Przedszkolny im. Jana Pawła II w Rząśni
REFRESH-INTERVAL;VALUE=DURATION:PT1H
X-Robots-Tag:noindex
X-PUBLISHED-TTL:PT1H
BEGIN:VTIMEZONE
TZID:Europe/Warsaw
BEGIN:DAYLIGHT
TZOFFSETFROM:+0100
TZOFFSETTO:+0200
TZNAME:CEST
DTSTART:20200329T010000
END:DAYLIGHT
BEGIN:STANDARD
TZOFFSETFROM:+0200
TZOFFSETTO:+0100
TZNAME:CET
DTSTART:20201025T010000
END:STANDARD
BEGIN:DAYLIGHT
TZOFFSETFROM:+0100
TZOFFSETTO:+0200
TZNAME:CEST
DTSTART:20210328T010000
END:DAYLIGHT
BEGIN:STANDARD
TZOFFSETFROM:+0200
TZOFFSETTO:+0100
TZNAME:CET
DTSTART:20211031T010000
END:STANDARD
BEGIN:DAYLIGHT
TZOFFSETFROM:+0100
TZOFFSETTO:+0200
TZNAME:CEST
DTSTART:20220327T010000
END:DAYLIGHT
BEGIN:STANDARD
TZOFFSETFROM:+0200
TZOFFSETTO:+0100
TZNAME:CET
DTSTART:20221030T010000
END:STANDARD
BEGIN:DAYLIGHT
TZOFFSETFROM:+0100
TZOFFSETTO:+0200
TZNAME:CEST
DTSTART:20230326T010000
END:DAYLIGHT
BEGIN:STANDARD
TZOFFSETFROM:+0200
TZOFFSETTO:+0100
TZNAME:CET
DTSTART:20231029T010000
END:STANDARD
END:VTIMEZONE
BEGIN:VEVENT
DTSTART;TZID=Europe/Warsaw:20221129T080000
DTEND;TZID=Europe/Warsaw:20221129T170000
DTSTAMP:20260419T191955
CREATED:20221006T172853Z
LAST-MODIFIED:20221006T172853Z
UID:2645-1669708800-1669741200@zsprzasnia.pl
SUMMARY:Andrzejki
DESCRIPTION:
URL:https://zsprzasnia.pl/event/andrzejki/
END:VEVENT
BEGIN:VEVENT
DTSTART;VALUE=DATE:20221125
DTEND;VALUE=DATE:20221126
DTSTAMP:20260419T191955
CREATED:20221006T172638Z
LAST-MODIFIED:20221006T172638Z
UID:2643-1669334400-1669420799@zsprzasnia.pl
SUMMARY:Parada z pluszowymi misiami- Dzień Pluszowego Misia  dla wszystkich grup w przedszkolu
DESCRIPTION:
URL:https://zsprzasnia.pl/event/parada-z-pluszowymi-misiami-dzien-pluszowego-misia-dla-wszystkich-grup-w-przedszkolu/
END:VEVENT
BEGIN:VEVENT
DTSTART;VALUE=DATE:20221122
DTEND;VALUE=DATE:20221123
DTSTAMP:20260419T191955
CREATED:20221006T172318Z
LAST-MODIFIED:20221006T172318Z
UID:2634-1669075200-1669161599@zsprzasnia.pl
SUMMARY:Konkurs recytatorski- „Wiersze J. Tuwima”  dla grup 5\,6 - latków
DESCRIPTION:
URL:https://zsprzasnia.pl/event/konkurs-recytatorski-wiersze-j-tuwima-dla-grup-56-latkow/
END:VEVENT
BEGIN:VEVENT
DTSTART;VALUE=DATE:20221120
DTEND;VALUE=DATE:20221121
DTSTAMP:20260419T191955
CREATED:20221006T172549Z
LAST-MODIFIED:20221006T172549Z
UID:2640-1668902400-1668988799@zsprzasnia.pl
SUMMARY:Dzień Praw Dziecka
DESCRIPTION:
URL:https://zsprzasnia.pl/event/dzien-praw-dziecka/
END:VEVENT
BEGIN:VEVENT
DTSTART;VALUE=DATE:20221111
DTEND;VALUE=DATE:20221112
DTSTAMP:20260419T191955
CREATED:20221107T165015Z
LAST-MODIFIED:20221107T165212Z
UID:3109-1668124800-1668211199@zsprzasnia.pl
SUMMARY:Narodowe Święto Niepodległości
DESCRIPTION:Narodowe Święto Niepodległości
URL:https://zsprzasnia.pl/event/3109/
END:VEVENT
BEGIN:VEVENT
DTSTART;VALUE=DATE:20221110
DTEND;VALUE=DATE:20221111
DTSTAMP:20260419T191955
CREATED:20221006T172459Z
LAST-MODIFIED:20221006T172459Z
UID:2638-1668038400-1668124799@zsprzasnia.pl
SUMMARY:Apel z okazji 11 listopada. Narodowe Śpiewanie Hymnu o godzinie 11:11
DESCRIPTION:
URL:https://zsprzasnia.pl/event/apel-z-okazji-11-listopada-narodowe-spiewanie-hymnu-o-godzinie-1111/
END:VEVENT
BEGIN:VEVENT
DTSTART;VALUE=DATE:20221014
DTEND;VALUE=DATE:20221015
DTSTAMP:20260419T191955
CREATED:20220920T183049Z
LAST-MODIFIED:20220920T190438Z
UID:2499-1665705600-1665791999@zsprzasnia.pl
SUMMARY:Dni dyrektorskie – wolne od zajęć dydaktycznych
DESCRIPTION:Dzień Edukacji Narodowej\, \nDni dyrektorskie – wolne od zajęć dydaktycznych \n 
URL:https://zsprzasnia.pl/event/dzien-wolny-od-zajec-dydaktyczno-wychowawczych/
END:VEVENT
BEGIN:VEVENT
DTSTART;VALUE=DATE:20220930
DTEND;VALUE=DATE:20221001
DTSTAMP:20260419T191955
CREATED:20220920T182611Z
LAST-MODIFIED:20220920T184338Z
UID:2495-1664496000-1664582399@zsprzasnia.pl
SUMMARY:30 września  Dzień Chłopaka
DESCRIPTION:
URL:https://zsprzasnia.pl/event/30-wrzesnia-dzien-chlopaka/
END:VEVENT
BEGIN:VEVENT
DTSTART;VALUE=DATE:20220929
DTEND;VALUE=DATE:20220930
DTSTAMP:20260419T191955
CREATED:20220927T174251Z
LAST-MODIFIED:20220927T174251Z
UID:2592-1664409600-1664495999@zsprzasnia.pl
SUMMARY:Ogólnopolski Dzień Głośnego Czytania
DESCRIPTION:
URL:https://zsprzasnia.pl/event/ogolnopolski-dzien-glosnego-czytania/
END:VEVENT
BEGIN:VEVENT
DTSTART;VALUE=DATE:20220915
DTEND;VALUE=DATE:20220916
DTSTAMP:20260419T191955
CREATED:20220920T182243Z
LAST-MODIFIED:20220920T182909Z
UID:2493-1663200000-1663286399@zsprzasnia.pl
SUMMARY:Międzynarodowy Dzień Kropki
DESCRIPTION:
URL:https://zsprzasnia.pl/event/15-wrzesnia-miedzynarodowy-dzien-kropki/
END:VEVENT
BEGIN:VEVENT
DTSTART;VALUE=DATE:20220901
DTEND;VALUE=DATE:20220902
DTSTAMP:20260419T191955
CREATED:20220830T173557Z
LAST-MODIFIED:20220830T174429Z
UID:2422-1661990400-1662076799@zsprzasnia.pl
SUMMARY:Rozpoczęcie  roku szkolnego 2022/2023
DESCRIPTION:– godz. 8.00 Msza Święta w kościele św. Macieja  w Rząśni  (uczniowie dojeżdżający są dowożeni autobusami według rozkazu jazdy obowiązującego w czasie nauki )\, \n– godz. 9.00  uroczyste rozpoczęcie roku szkolnego  20022/2023 na hali sportowej  w Zespole Szkolno-Przedszkolnym w Rząśni\, \n– ok. godz. 9.30 spotkania z wychowawcami w  klasach\, \nOdwozy uczniów około godz. 10.00 – 10.30. \n  \n Serdecznie zapraszamy
URL:https://zsprzasnia.pl/event/inauguracja-toku-szkolnego-2022-2023/
END:VEVENT
BEGIN:VEVENT
DTSTART;VALUE=DATE:20220624
DTEND;VALUE=DATE:20220625
DTSTAMP:20260419T191955
CREATED:20210907T054242Z
LAST-MODIFIED:20210907T054242Z
UID:745-1656028800-1656115199@zsprzasnia.pl
SUMMARY:Zakończenie roku szkolnego
DESCRIPTION:Zakończenie roku szkolnego
URL:https://zsprzasnia.pl/event/zakonczenie-roku-szkolnego/
END:VEVENT
BEGIN:VEVENT
DTSTART;VALUE=DATE:20220617
DTEND;VALUE=DATE:20220618
DTSTAMP:20260419T191955
CREATED:20210907T054216Z
LAST-MODIFIED:20210907T054216Z
UID:743-1655424000-1655510399@zsprzasnia.pl
SUMMARY:Dni dyrektorskie – wolne od zajęć dydaktycznych
DESCRIPTION:Dni dyrektorskie – wolne od zajęć dydaktycznych
URL:https://zsprzasnia.pl/event/dni-dyrektorskie-wolne-od-zajec-dydaktycznych-5/
END:VEVENT
BEGIN:VEVENT
DTSTART;VALUE=DATE:20220616
DTEND;VALUE=DATE:20220617
DTSTAMP:20260419T191955
CREATED:20210907T054150Z
LAST-MODIFIED:20210907T054150Z
UID:741-1655337600-1655423999@zsprzasnia.pl
SUMMARY:Boże Ciało
DESCRIPTION:Boże Ciało
URL:https://zsprzasnia.pl/event/boze-cialo/
END:VEVENT
BEGIN:VEVENT
DTSTART;TZID=Europe/Warsaw:20220524T080000
DTEND;TZID=Europe/Warsaw:20220526T170000
DTSTAMP:20260419T191955
CREATED:20210907T054115Z
LAST-MODIFIED:20210907T054115Z
UID:739-1653379200-1653584400@zsprzasnia.pl
SUMMARY:Egzaminy klas VIII
DESCRIPTION:Egzaminy klas VIII
URL:https://zsprzasnia.pl/event/egzaminy-klas-viii/
END:VEVENT
BEGIN:VEVENT
DTSTART;VALUE=DATE:20220502
DTEND;VALUE=DATE:20220503
DTSTAMP:20260419T191955
CREATED:20210907T054027Z
LAST-MODIFIED:20210907T054027Z
UID:737-1651449600-1651535999@zsprzasnia.pl
SUMMARY:Dni dyrektorskie – wolne od zajęć dydaktycznych
DESCRIPTION:Dni dyrektorskie – wolne od zajęć dydaktycznych
URL:https://zsprzasnia.pl/event/dni-dyrektorskie-wolne-od-zajec-dydaktycznych-4/
END:VEVENT
BEGIN:VEVENT
DTSTART;TZID=Europe/Warsaw:20220414T080000
DTEND;TZID=Europe/Warsaw:20220419T170000
DTSTAMP:20260419T191955
CREATED:20210907T054001Z
LAST-MODIFIED:20210907T054001Z
UID:735-1649923200-1650387600@zsprzasnia.pl
SUMMARY:Wiosenna przerwa świąteczna
DESCRIPTION:Wiosenna przerwa świąteczna
URL:https://zsprzasnia.pl/event/wiosenna-przerwa-swiateczna/
END:VEVENT
BEGIN:VEVENT
DTSTART;TZID=Europe/Warsaw:20220217T080000
DTEND;TZID=Europe/Warsaw:20220225T170000
DTSTAMP:20260419T191955
CREATED:20210907T053931Z
LAST-MODIFIED:20210907T053931Z
UID:733-1645084800-1645808400@zsprzasnia.pl
SUMMARY:Ferie zimowe
DESCRIPTION:Ferie zimowe
URL:https://zsprzasnia.pl/event/ferie-zimowe/
END:VEVENT
BEGIN:VEVENT
DTSTART;VALUE=DATE:20220107
DTEND;VALUE=DATE:20220108
DTSTAMP:20260419T191955
CREATED:20210907T053900Z
LAST-MODIFIED:20210907T053900Z
UID:731-1641513600-1641599999@zsprzasnia.pl
SUMMARY:Dni dyrektorskie – wolne od zajęć dydaktycznych
DESCRIPTION:Dni dyrektorskie – wolne od zajęć dydaktycznych
URL:https://zsprzasnia.pl/event/dni-dyrektorskie-wolne-od-zajec-dydaktycznych-3/
END:VEVENT
BEGIN:VEVENT
DTSTART;TZID=Europe/Warsaw:20211223T080000
DTEND;TZID=Europe/Warsaw:20211231T170000
DTSTAMP:20260419T191955
CREATED:20210907T053837Z
LAST-MODIFIED:20210907T053837Z
UID:728-1640246400-1640970000@zsprzasnia.pl
SUMMARY:Przerwa świąteczno – zimowa
DESCRIPTION:Przerwa świąteczno – zimowa
URL:https://zsprzasnia.pl/event/przerwa-swiateczno-zimowa/
END:VEVENT
BEGIN:VEVENT
DTSTART;TZID=Europe/Warsaw:20211220T003000
DTEND;TZID=Europe/Warsaw:20220109T233000
DTSTAMP:20260419T191955
CREATED:20211208T162515Z
LAST-MODIFIED:20211208T162515Z
UID:1075-1639960200-1641771000@zsprzasnia.pl
SUMMARY:Nauka zdalna
DESCRIPTION:Nauka zdalna\n\nOd 20 grudnia 2021 r. do 9 stycznia 2022 r. wszyscy uczniowie szkół podstawowych i ponadpodstawowych będą uczyć się zdalnie.\nŻłobki i przedszkola będą funkcjonowały bez zmian.
URL:https://zsprzasnia.pl/event/nauka-zdalna/
END:VEVENT
BEGIN:VEVENT
DTSTART;VALUE=DATE:20211112
DTEND;VALUE=DATE:20211113
DTSTAMP:20260419T191955
CREATED:20210907T053807Z
LAST-MODIFIED:20210907T053807Z
UID:726-1636675200-1636761599@zsprzasnia.pl
SUMMARY:Dni dyrektorskie – wolne od zajęć dydaktycznych
DESCRIPTION:Dni dyrektorskie – wolne od zajęć dydaktycznych
URL:https://zsprzasnia.pl/event/dni-dyrektorskie-wolne-od-zajec-dydaktycznych-2/
END:VEVENT
BEGIN:VEVENT
DTSTART;VALUE=DATE:20211111
DTEND;VALUE=DATE:20211112
DTSTAMP:20260419T191955
CREATED:20210907T053746Z
LAST-MODIFIED:20210907T053746Z
UID:724-1636588800-1636675199@zsprzasnia.pl
SUMMARY:Narodowe Święto Niepodległości
DESCRIPTION:Narodowe Święto Niepodległości
URL:https://zsprzasnia.pl/event/narodowe-swieto-niepodleglosci/
END:VEVENT
BEGIN:VEVENT
DTSTART;VALUE=DATE:20210910
DTEND;VALUE=DATE:20210911
DTSTAMP:20260419T191955
CREATED:20210907T053722Z
LAST-MODIFIED:20210907T053722Z
UID:722-1631232000-1631318399@zsprzasnia.pl
SUMMARY:Dni dyrektorskie – wolne od zajęć dydaktycznych
DESCRIPTION:Dni dyrektorskie – wolne od zajęć dydaktycznych
URL:https://zsprzasnia.pl/event/dni-dyrektorskie-wolne-od-zajec-dydaktycznych/
END:VEVENT
BEGIN:VEVENT
DTSTART;TZID=Europe/Warsaw:20210901T080000
DTEND;TZID=Europe/Warsaw:20210901T170000
DTSTAMP:20260419T191955
CREATED:20210715T071838Z
LAST-MODIFIED:20210715T071838Z
UID:695-1630483200-1630515600@zsprzasnia.pl
SUMMARY:Rozpoczęcie roku szkolnego 2021/2022
DESCRIPTION:Rozpoczęcie roku szkolnego 2021/2022
URL:https://zsprzasnia.pl/event/rozpoczecie-roku-szkolnego-2021-2022/
ATTACH;FMTTYPE=image/jpeg:https://zsprzasnia.pl/wp-content/uploads/2021/07/witaj_szkolo.jpg
END:VEVENT
BEGIN:VEVENT
DTSTART;TZID=Europe/Warsaw:20210628T000100
DTEND;TZID=Europe/Warsaw:20210901T080000
DTSTAMP:20260419T191955
CREATED:20210625T061609Z
LAST-MODIFIED:20210625T061609Z
UID:692-1624838460-1630483200@zsprzasnia.pl
SUMMARY:Przerwa wakacyjna
DESCRIPTION:Przerwa wakacyjna dla wszystkich Uczniów Zespołu Szkolno – Przedszkolnego im. Jana Pawła II w Rząśni.
URL:https://zsprzasnia.pl/event/przerwa-wakacyjna/
END:VEVENT
BEGIN:VEVENT
DTSTART;VALUE=DATE:20210505
DTEND;VALUE=DATE:20210506
DTSTAMP:20260419T191955
CREATED:20210412T105746Z
LAST-MODIFIED:20210412T105746Z
UID:567-1620172800-1620259199@zsprzasnia.pl
SUMMARY:Rozstrzygnięcie szkolnego konkursu "MAM TALENT"
DESCRIPTION:Rozstrzygnięcie szkolnego konkursu “MAM TALENT”. \nWięcej: https://zsprzasnia.pl/szkolny-konkurs-mam-talent/
URL:https://zsprzasnia.pl/event/rozstrzygniecie-szkolnego-konkursu-mam-talent/
ATTACH;FMTTYPE=image/jpeg:https://zsprzasnia.pl/wp-content/uploads/2021/04/mamtalent.jpg
END:VEVENT
BEGIN:VEVENT
DTSTART;VALUE=DATE:20210423
DTEND;VALUE=DATE:20210424
DTSTAMP:20260419T191955
CREATED:20210412T105358Z
LAST-MODIFIED:20210412T105358Z
UID:565-1619136000-1619222399@zsprzasnia.pl
SUMMARY:Zgłoszenia do konkursu "MAM TALENT"
DESCRIPTION:Zespół Szkolno –Przedszkolny im. Jana Pawła II w Rząśni zaprasza uczniów szkoły do udziału w konkursie „MAM TALENT”. \nSzczegóły pod linkiem: https://zsprzasnia.pl/szkolny-konkurs-mam-talent/
URL:https://zsprzasnia.pl/event/zgloszenia-do-konkursu-mam-talent/
CATEGORIES:School
ATTACH;FMTTYPE=image/jpeg:https://zsprzasnia.pl/wp-content/uploads/2021/04/mamtalent.jpg
END:VEVENT
BEGIN:VEVENT
DTSTART;VALUE=DATE:20210419
DTEND;VALUE=DATE:20210420
DTSTAMP:20260419T191955
CREATED:20210416T120315Z
LAST-MODIFIED:20210416T120315Z
UID:586-1618790400-1618876799@zsprzasnia.pl
SUMMARY:Powrót dzieci do przedszkoli
DESCRIPTION:W związku z decyzją o otwarciu od 19 kwietnia przedszkoli dla wszystkich dzieci\, Dyrekcja Zespołu Szkolno – Przedszkolnego w Rząśni podaje aktualny harmonogram dowozów dzieci (nie uległ on zmianie od czasu sprzed zamknięcia placówki). \nHarmonogram dowozu: https://zsprzasnia.pl/rozklad-jazdy-autobusu/
URL:https://zsprzasnia.pl/event/powrot-dzieci-do-przedszkoli/
ATTACH;FMTTYPE=image/png:https://zsprzasnia.pl/wp-content/uploads/2021/02/logo_nowe_small.png
END:VEVENT
BEGIN:VEVENT
DTSTART;VALUE=DATE:20210413
DTEND;VALUE=DATE:20210414
DTSTAMP:20260419T191955
CREATED:20210412T102231Z
LAST-MODIFIED:20210412T102341Z
UID:559-1618272000-1618358399@zsprzasnia.pl
SUMMARY:Zgłoszenia do konkursu "Pierwsza pomoc przedmedyczna"
DESCRIPTION:Zespół Szkolno –Przedszkolny im. Jana Pawła II w Rząśni zaprasza uczniów szkoły do udziału w konkursie „Pierwsza pomoc przedmedyczna”. \nSzczegóły pod linkiem: https://zsprzasnia.pl/konkurs-pierwsza-pomoc-przedmedyczna/
URL:https://zsprzasnia.pl/event/zgloszenia-do-konkursu-pierwsza-pomoc-przedmedyczna/
CATEGORIES:School
ATTACH;FMTTYPE=image/jpeg:https://zsprzasnia.pl/wp-content/uploads/2021/04/ppmoc_przedmedyczna_konkurs.jpg
END:VEVENT
END:VCALENDAR